BEGIN:VCALENDAR
VERSION:2.0
PRODID:-//eventon.com NONSGML v1.0//EN
CALSCALE:GREGORIAN
METHOD:PUBLISH
BEGIN:VEVENT
UID:69e5e77413915
DTSTAMP:20260420T084436Z
DTSTART:20251026
DTEND:20251027
LOCATION:
SUMMARY:Autumn Half Term Holiday
DESCRIPTION:Swadlincote Lasers half term break up\nhttps://www.swadlincotel
 asers.com/news/events/autumn-half-term-holiday/
URL:https://www.swadlincotelasers.com/news/events/autumn-half-term-holiday/
END:VEVENT
END:VCALENDAR