BEGIN:VCALENDAR
VERSION:2.0
PRODID:-//eventon.com NONSGML v1.0//EN
CALSCALE:GREGORIAN
METHOD:PUBLISH
BEGIN:VEVENT
UID:69e759227189f
DTSTAMP:20260421T110154Z
DTSTART:20260216
DTEND:20260217
LOCATION:
SUMMARY:Winter Half Term Holiday
DESCRIPTION:Half term break up\nhttps://www.swadlincotelasers.com/news/even
 ts/winter-half-term-holiday/
URL:https://www.swadlincotelasers.com/news/events/winter-half-term-holiday/
END:VEVENT
END:VCALENDAR