BEGIN:VCALENDAR
VERSION:2.0
PRODID:-//eventon.com NONSGML v1.0//EN
CALSCALE:GREGORIAN
METHOD:PUBLISH
BEGIN:VEVENT
UID:69e6006a5503e
DTSTAMP:20260420T103106Z
DTSTART:20260330
DTEND:20260331
LOCATION:
SUMMARY:Easter Break Holidays
DESCRIPTION:Easter Break up\nhttps://www.swadlincotelasers.com/news/events/
 easter-break-holidays/
URL:https://www.swadlincotelasers.com/news/events/easter-break-holidays/
END:VEVENT
END:VCALENDAR